BEGIN:VCALENDAR
VERSION:2.0
PRODID:-//Delego//EN
BEGIN:VEVENT
DTSTAMP:20260424T101955Z
DTSTART:20260519T090000
DTEND:20260519T110000
SUMMARY:(Vedoucí) vychovatel/ka v zájmovém vzdělávání: jak na organizační, provozní i výchovné činnosti v družině
DESCRIPTION:
LOCATION:
END:VEVENT
END:VCALENDAR