BEGIN:VCALENDAR
VERSION:2.0
PRODID:-//Delego//EN
BEGIN:VEVENT
DTSTAMP:20260424T120058Z
DTSTART:20260519T090000
DTEND:20260519T110000
SUMMARY:Právní odpovědnost ve školní družině s důrazem na individuální odpovědnost vychovatelů
DESCRIPTION:
LOCATION:
END:VEVENT
END:VCALENDAR