BEGIN:VCALENDAR
VERSION:2.0
PRODID:-//Delego//EN
BEGIN:VEVENT
DTSTAMP:20260424T120037Z
DTSTART:20260528T140000
DTEND:20260528T160000
SUMMARY:Školní výlety, školy v přírodě a další mimoškolní akce podle nové obsáhlé metodiky MŠMT (04/2026)
DESCRIPTION:
LOCATION:
END:VEVENT
END:VCALENDAR