BEGIN:VCALENDAR
VERSION:2.0
PRODID:-//Delego//EN
BEGIN:VEVENT
DTSTAMP:20260424T120058Z
DTSTART:20260518T140000
DTEND:20260518T161500
SUMMARY:Jak vyplnit výkaz R44-99 a ostatní problematika spojená s podpůrnými opatřeními
DESCRIPTION:
LOCATION:
END:VEVENT
END:VCALENDAR