BEGIN:VCALENDAR
VERSION:2.0
PRODID:-//Delego//EN
BEGIN:VEVENT
DTSTAMP:20260424T120058Z
DTSTART:20260602T140000
DTEND:20260602T160000
SUMMARY:Rizikové chování žáků – povinnosti metodiků prevence a dalších pedagogů z pohledu práva
DESCRIPTION:
LOCATION:
END:VEVENT
END:VCALENDAR