BEGIN:VCALENDAR
VERSION:2.0
PRODID:-//Delego//EN
BEGIN:VEVENT
DTSTAMP:20260424T120059Z
DTSTART:20260603T133000
DTEND:20260603T163000
SUMMARY:Povinná dokumentace a vnitřní směrnice ve školách po změnách legislativy
DESCRIPTION:
LOCATION:
END:VEVENT
END:VCALENDAR